BEGIN:VCALENDAR
VERSION:2.0
PRODID:-//Bienenstock - ECPv6.15.20//NONSGML v1.0//EN
CALSCALE:GREGORIAN
METHOD:PUBLISH
X-ORIGINAL-URL:https://bienenstock.fr
X-WR-CALDESC:Veranstaltungen für Bienenstock
REFRESH-INTERVAL;VALUE=DURATION:PT1H
X-Robots-Tag:noindex
X-PUBLISHED-TTL:PT1H
BEGIN:VTIMEZONE
TZID:UTC
BEGIN:STANDARD
TZOFFSETFROM:+0000
TZOFFSETTO:+0000
TZNAME:UTC
DTSTART:20250101T000000
END:STANDARD
END:VTIMEZONE
BEGIN:VEVENT
DTSTART;TZID=UTC:20260412T103000
DTEND;TZID=UTC:20260412T130000
DTSTAMP:20260424T134628
CREATED:20260208T114444Z
LAST-MODIFIED:20260407T202433Z
UID:381-1775989800-1775998800@bienenstock.fr
SUMMARY:Drittes Kennenlernen
DESCRIPTION:
URL:https://bienenstock.fr/event/drittes-kennenlernen/
LOCATION:Kennenlernen für Interessierte\, Ort wird nach Anmeldung bekannt gegeben\, Freiburg im Breisgau\, Baden-Württemberg\, 79102\, Germany
ATTACH;FMTTYPE=image/jpeg:https://bienenstock.fr/wp-content/uploads/2025/11/signal-2025-11-29-213754_002.jpeg
END:VEVENT
END:VCALENDAR