BEGIN:VCALENDAR
VERSION:2.0
PRODID:-//Bienenstock - ECPv6.15.20//NONSGML v1.0//EN
CALSCALE:GREGORIAN
METHOD:PUBLISH
X-WR-CALNAME:Bienenstock
X-ORIGINAL-URL:https://bienenstock.fr
X-WR-CALDESC:Veranstaltungen für Bienenstock
REFRESH-INTERVAL;VALUE=DURATION:PT1H
X-Robots-Tag:noindex
X-PUBLISHED-TTL:PT1H
BEGIN:VTIMEZONE
TZID:UTC
BEGIN:STANDARD
TZOFFSETFROM:+0000
TZOFFSETTO:+0000
TZNAME:UTC
DTSTART:20250101T000000
END:STANDARD
END:VTIMEZONE
BEGIN:VTIMEZONE
TZID:Europe/Helsinki
BEGIN:DAYLIGHT
TZOFFSETFROM:+0200
TZOFFSETTO:+0300
TZNAME:EEST
DTSTART:20250330T010000
END:DAYLIGHT
BEGIN:STANDARD
TZOFFSETFROM:+0300
TZOFFSETTO:+0200
TZNAME:EET
DTSTART:20251026T010000
END:STANDARD
BEGIN:DAYLIGHT
TZOFFSETFROM:+0200
TZOFFSETTO:+0300
TZNAME:EEST
DTSTART:20260329T010000
END:DAYLIGHT
BEGIN:STANDARD
TZOFFSETFROM:+0300
TZOFFSETTO:+0200
TZNAME:EET
DTSTART:20261025T010000
END:STANDARD
BEGIN:DAYLIGHT
TZOFFSETFROM:+0200
TZOFFSETTO:+0300
TZNAME:EEST
DTSTART:20270328T010000
END:DAYLIGHT
BEGIN:STANDARD
TZOFFSETFROM:+0300
TZOFFSETTO:+0200
TZNAME:EET
DTSTART:20271031T010000
END:STANDARD
END:VTIMEZONE
BEGIN:VEVENT
DTSTART;TZID=UTC:20260509T100000
DTEND;TZID=UTC:20260509T163000
DTSTAMP:20260422T120144
CREATED:20260208T115541Z
LAST-MODIFIED:20260208T115541Z
UID:386-1778320800-1778344200@bienenstock.fr
SUMMARY:Ganztages Treffen
DESCRIPTION:
URL:https://bienenstock.fr/event/ganztages-treffen-2/
LOCATION:Ganztages Treffen für Kernteam\, Ort wird noch bekannt gegeben\, Freiburg im Breisgau\, Baden-Würtemberg\, 79102\, Germany
END:VEVENT
BEGIN:VEVENT
DTSTART;TZID=Europe/Helsinki:20260510T143000
DTEND;TZID=Europe/Helsinki:20260510T170000
DTSTAMP:20260422T120144
CREATED:20260414T072959Z
LAST-MODIFIED:20260414T074410Z
UID:553-1778423400-1778432400@bienenstock.fr
SUMMARY:Viertes Kennenlernen
DESCRIPTION:
URL:https://bienenstock.fr/event/viertes-kennenlernen/
LOCATION:Kennenlernen für Interessierte\, Ort wird nach Anmeldung bekannt gegeben\, Freiburg im Breisgau\, Baden-Württemberg\, 79102\, Germany
ATTACH;FMTTYPE=image/jpeg:https://bienenstock.fr/wp-content/uploads/2025/11/signal-2025-11-29-213754_002.jpeg
END:VEVENT
BEGIN:VEVENT
DTSTART;TZID=UTC:20260523T100000
DTEND;TZID=UTC:20260523T163000
DTSTAMP:20260422T120144
CREATED:20260208T115644Z
LAST-MODIFIED:20260208T115644Z
UID:388-1779530400-1779553800@bienenstock.fr
SUMMARY:Ganztages Treffen
DESCRIPTION:
URL:https://bienenstock.fr/event/ganztages-treffen-3/
LOCATION:Ganztages Treffen für Kernteam\, Ort wird noch bekannt gegeben\, Freiburg im Breisgau\, Baden-Würtemberg\, 79102\, Germany
END:VEVENT
BEGIN:VEVENT
DTSTART;TZID=UTC:20260613T100000
DTEND;TZID=UTC:20260613T163000
DTSTAMP:20260422T120144
CREATED:20260208T115730Z
LAST-MODIFIED:20260208T115730Z
UID:390-1781344800-1781368200@bienenstock.fr
SUMMARY:Ganztages Treffen
DESCRIPTION:
URL:https://bienenstock.fr/event/ganztages-treffen-4/
LOCATION:Ganztages Treffen für Kernteam\, Ort wird noch bekannt gegeben\, Freiburg im Breisgau\, Baden-Würtemberg\, 79102\, Germany
END:VEVENT
BEGIN:VEVENT
DTSTART;TZID=UTC:20260705T100000
DTEND;TZID=UTC:20260705T163000
DTSTAMP:20260422T120144
CREATED:20260208T115821Z
LAST-MODIFIED:20260208T115821Z
UID:392-1783245600-1783269000@bienenstock.fr
SUMMARY:Ganztages Treffen
DESCRIPTION:
URL:https://bienenstock.fr/event/ganztages-treffen-5/
LOCATION:Ganztages Treffen für Kernteam\, Ort wird noch bekannt gegeben\, Freiburg im Breisgau\, Baden-Würtemberg\, 79102\, Germany
END:VEVENT
BEGIN:VEVENT
DTSTART;TZID=UTC:20260725T100000
DTEND;TZID=UTC:20260725T163000
DTSTAMP:20260422T120144
CREATED:20260208T115903Z
LAST-MODIFIED:20260208T115903Z
UID:394-1784973600-1784997000@bienenstock.fr
SUMMARY:Ganztages Treffen
DESCRIPTION:
URL:https://bienenstock.fr/event/ganztages-treffen-6/
LOCATION:Ganztages Treffen für Kernteam\, Ort wird noch bekannt gegeben\, Freiburg im Breisgau\, Baden-Würtemberg\, 79102\, Germany
END:VEVENT
END:VCALENDAR