BEGIN:VCALENDAR
VERSION:2.0
PRODID:-//Bienenstock - ECPv6.15.20//NONSGML v1.0//EN
CALSCALE:GREGORIAN
METHOD:PUBLISH
X-ORIGINAL-URL:https://bienenstock.fr
X-WR-CALDESC:Veranstaltungen für Bienenstock
REFRESH-INTERVAL;VALUE=DURATION:PT1H
X-Robots-Tag:noindex
X-PUBLISHED-TTL:PT1H
BEGIN:VTIMEZONE
TZID:UTC
BEGIN:STANDARD
TZOFFSETFROM:+0000
TZOFFSETTO:+0000
TZNAME:UTC
DTSTART:20250101T000000
END:STANDARD
END:VTIMEZONE
BEGIN:VEVENT
DTSTART;TZID=UTC:20260705T100000
DTEND;TZID=UTC:20260705T163000
DTSTAMP:20260424T173729
CREATED:20260208T115821Z
LAST-MODIFIED:20260208T115821Z
UID:392-1783245600-1783269000@bienenstock.fr
SUMMARY:Ganztages Treffen
DESCRIPTION:
URL:https://bienenstock.fr/event/ganztages-treffen-5/
LOCATION:Ganztages Treffen für Kernteam\, Ort wird noch bekannt gegeben\, Freiburg im Breisgau\, Baden-Würtemberg\, 79102\, Germany
END:VEVENT
BEGIN:VEVENT
DTSTART;TZID=UTC:20260725T100000
DTEND;TZID=UTC:20260725T163000
DTSTAMP:20260424T173729
CREATED:20260208T115903Z
LAST-MODIFIED:20260208T115903Z
UID:394-1784973600-1784997000@bienenstock.fr
SUMMARY:Ganztages Treffen
DESCRIPTION:
URL:https://bienenstock.fr/event/ganztages-treffen-6/
LOCATION:Ganztages Treffen für Kernteam\, Ort wird noch bekannt gegeben\, Freiburg im Breisgau\, Baden-Würtemberg\, 79102\, Germany
END:VEVENT
END:VCALENDAR